BEGIN:VCALENDAR
VERSION:2.0
PRODID:-//Orleans Parish Communication District - ECPv6.6.4.2//NONSGML v1.0//EN
CALSCALE:GREGORIAN
METHOD:PUBLISH
X-WR-CALNAME:Orleans Parish Communication District
X-ORIGINAL-URL:https://www.opcdla.gov
X-WR-CALDESC:Events for Orleans Parish Communication District
REFRESH-INTERVAL;VALUE=DURATION:PT1H
X-Robots-Tag:noindex
X-PUBLISHED-TTL:PT1H
BEGIN:VTIMEZONE
TZID:UTC
BEGIN:STANDARD
TZOFFSETFROM:+0000
TZOFFSETTO:+0000
TZNAME:UTC
DTSTART:20230101T000000
END:STANDARD
END:VTIMEZONE
BEGIN:VEVENT
DTSTART;TZID=UTC:20230516T180000
DTEND;TZID=UTC:20230516T190000
DTSTAMP:20260422T074630
CREATED:20230510T210428Z
LAST-MODIFIED:20230510T211625Z
UID:4410-1684260000-1684263600@www.opcdla.gov
SUMMARY:911 and 311 - State of the Agency Community Meeting - Gernon Brown Rec Center
DESCRIPTION:Orleans Parish Communication District Executive Director Tyrell Morris will be speaking to the public at local NORD centers across New Orleans\, about how 311 and 911 work\, with updates and answers to residents’ questions. \nThe first event will be held on: \nTuesday\, May 16\, 2023 \nat Gernon Brown Rec Center\,  \nfrom 6 – 7 p.m. \n 
URL:https://www.opcdla.gov/event/911-and-311-state-of-the-agency-community-meeting-gernon-brown-rec-center/
END:VEVENT
END:VCALENDAR