BEGIN:VCALENDAR
VERSION:2.0
PRODID:-//Orleans Parish Communication District - ECPv6.6.4.2//NONSGML v1.0//EN
CALSCALE:GREGORIAN
METHOD:PUBLISH
X-ORIGINAL-URL:https://www.opcdla.gov
X-WR-CALDESC:Events for Orleans Parish Communication District
REFRESH-INTERVAL;VALUE=DURATION:PT1H
X-Robots-Tag:noindex
X-PUBLISHED-TTL:PT1H
BEGIN:VTIMEZONE
TZID:UTC
BEGIN:STANDARD
TZOFFSETFROM:+0000
TZOFFSETTO:+0000
TZNAME:UTC
DTSTART:20230101T000000
END:STANDARD
END:VTIMEZONE
BEGIN:VEVENT
DTSTART;TZID=UTC:20230516T180000
DTEND;TZID=UTC:20230516T190000
DTSTAMP:20260422T075037
CREATED:20230510T210428Z
LAST-MODIFIED:20230510T211625Z
UID:4410-1684260000-1684263600@www.opcdla.gov
SUMMARY:911 and 311 - State of the Agency Community Meeting - Gernon Brown Rec Center
DESCRIPTION:Orleans Parish Communication District Executive Director Tyrell Morris will be speaking to the public at local NORD centers across New Orleans\, about how 311 and 911 work\, with updates and answers to residents’ questions. \nThe first event will be held on: \nTuesday\, May 16\, 2023 \nat Gernon Brown Rec Center\,  \nfrom 6 – 7 p.m. \n 
URL:https://www.opcdla.gov/event/911-and-311-state-of-the-agency-community-meeting-gernon-brown-rec-center/
END:VEVENT
BEGIN:VEVENT
DTSTART;TZID=UTC:20230518T180000
DTEND;TZID=UTC:20230518T190000
DTSTAMP:20260422T075037
CREATED:20230510T210650Z
LAST-MODIFIED:20230510T211559Z
UID:4411-1684432800-1684436400@www.opcdla.gov
SUMMARY:911 and 311 – State of the Agency Community Meeting – Joe W. Brown Park Rec Center
DESCRIPTION:Orleans Parish Communication District Executive Director Tyrell Morris will be speaking to the public at local NORD centers across New Orleans\, about how 311 and 911 work\, with updates and answers to residents’ questions. \nThe next event will be held on: \nThursday\, May 18\, 2023 \nat Joe W. Brown Park Rec Center \nfrom 6 – 7 p.m.
URL:https://www.opcdla.gov/event/911-and-311-state-of-the-agency-community-meeting-gernon-brown-rec-center-2/
END:VEVENT
BEGIN:VEVENT
DTSTART;TZID=UTC:20230524T180000
DTEND;TZID=UTC:20230524T190000
DTSTAMP:20260422T075037
CREATED:20230510T211211Z
LAST-MODIFIED:20230510T211702Z
UID:4412-1684951200-1684954800@www.opcdla.gov
SUMMARY:911 and 311 – State of the Agency Community Meeting -Sanchez Multi-Service  Center
DESCRIPTION:Orleans Parish Communication District Executive Director Tyrell Morris will be speaking to the public at NORD centers across New Orleans\, about how 311 and 911 work\, with updates and answers to residents’ questions. \nThis event will be held on: \nMonday\, May 24\, 2023 \nat Sanchez Multi-Service Center\, \nfrom 6 – 7 p.m
URL:https://www.opcdla.gov/event/911-and-311-state-of-the-agency-community-meeting-sanchez-multi-service-center/
END:VEVENT
BEGIN:VEVENT
DTSTART;TZID=UTC:20230526T180000
DTEND;TZID=UTC:20230526T190000
DTSTAMP:20260422T075037
CREATED:20230510T211513Z
LAST-MODIFIED:20230510T211531Z
UID:4413-1685124000-1685127600@www.opcdla.gov
SUMMARY:911 and 311 - State of the Agency Community Meeting - Morris F.X. Jeff\, Sr. Park
DESCRIPTION:Orleans\, about how 311 and 911 work\, with updates and answers to residents’ questions. \nThe next event will be held on: \nWednesday\, May 26\, 2023 \nat Morris F.X. Jeff\, Sr. Park \nfrom 6 – 7 p.m
URL:https://www.opcdla.gov/event/911-and-311-state-of-the-agency-community-meeting-morris-f-x-jeff-sr-park/
END:VEVENT
BEGIN:VEVENT
DTSTART;TZID=UTC:20230626T080000
DTEND;TZID=UTC:20230626T170000
DTSTAMP:20260422T075037
CREATED:20230626T234349Z
LAST-MODIFIED:20230626T234349Z
UID:4443-1687766400-1687798800@www.opcdla.gov
SUMMARY:Essence Festival 2023
DESCRIPTION:Thrown by Essence\, the long-standing Black-female-centered magazine\, the Essence Festival of Culture is considered the largest Black culture and music event in the United States. \nAround 500\,000 people journey to the Ernest N. Morial Convention Center in New Orleans every year for the highly anticipated occasion\, which this year will be held from June 29 to July 3. The three-day festival is an epic intersection of arts\, culture and concerts\, with Ms. Lauryn Hill\, Missy Elliott\, Megan Thee Stallion and more A-list stars set to perform.
URL:https://www.opcdla.gov/event/essence-festival-2023/
END:VEVENT
BEGIN:VEVENT
DTSTART;TZID=UTC:20230829T080000
DTEND;TZID=UTC:20230829T170000
DTSTAMP:20260422T075037
CREATED:20230830T014853Z
LAST-MODIFIED:20230830T014853Z
UID:4505-1693296000-1693328400@www.opcdla.gov
SUMMARY:Southern Decadence 2023
DESCRIPTION:Decadence is a celebration of the LGBTQ+ community and one of the largest parties in New Orleans. Taking place in the French Quarter\, there will be plenty to see\, hear and experience. We remind you to be safe\, be responsible and be respectful. \nFor more information\, visit the Decadence website: \n 
URL:https://www.opcdla.gov/event/southern-decadence-2023/
END:VEVENT
BEGIN:VEVENT
DTSTART;TZID=UTC:20230925T080000
DTEND;TZID=UTC:20230925T170000
DTSTAMP:20260422T075037
CREATED:20230925T205311Z
LAST-MODIFIED:20230925T205311Z
UID:4522-1695628800-1695661200@www.opcdla.gov
SUMMARY:2023 Neighborhood Summit
DESCRIPTION:OPCD is proud to be a participant in the 2023 Neighborhood Summit\, on Saturday\, October 21\, 2023. Held at the Ernest Morial Convention Center (900 Convention Center Blvd\, New Orleans\, LA 70130) on Saturday\, October 21st from 9AM – 1PM. \nThe annual Neighborhood Summit celebrates the strength\, history\, and diversity of our city’s neighborhoods\, bringing together community leaders\, non-profit agencies\, and city government. \nAt the Summit\, attendees will be able to attend workshops ranging from Public Safety to Infrastructure to Quality of Life. Several City departments and agencies will be included in the Summit resource fair. Dozens of free prizes\, giveaways\, and attraction passes will also be available! \nComplimentary breakfast will be served starting at 8AM\, with complimentary lunch later in the agenda. The first 200 registrants will receive free parking. \nThis event is FREE\, and the registration deadline is Friday\, October 13th or until we reach capacity as space is limited. \n\nCLICK HERE TO REGISTER
URL:https://www.opcdla.gov/event/2023-neighborhood-summit/
END:VEVENT
BEGIN:VEVENT
DTSTART;TZID=UTC:20231017T180000
DTEND;TZID=UTC:20231017T210000
DTSTAMP:20260422T075037
CREATED:20230925T203334Z
LAST-MODIFIED:20230925T210157Z
UID:4521-1697565600-1697576400@www.opcdla.gov
SUMMARY:40th Annual Night Out Against Crime
DESCRIPTION:The 40th Annual National Night Out Against Crime will take place October 17\, 2023. \nThe National Night Out Against Crime in New Orleans is a community-wide event to raise crime prevention awareness\, reduce crime and increase the support of local\, state and federal law enforcement. It began over 30 years ago with NOPD officer Kelly Marrione. \nTo host your own event\, visit this website and complete the registration information. \n 
URL:https://www.opcdla.gov/event/40th-annual-night-out-against-crime/
END:VEVENT
BEGIN:VEVENT
DTSTART;VALUE=DATE:20240801
DTEND;VALUE=DATE:20240916
DTSTAMP:20260422T075037
CREATED:20240810T001550Z
LAST-MODIFIED:20240810T001550Z
UID:4655-1722470400-1726444799@www.opcdla.gov
SUMMARY:Coolinary New Orleans
DESCRIPTION:Each summer\, restaurants across the Crescent City take part in the culinary extravaganza known as\, “COOLinary New Orleans.” Some of New Orleans’ finest dining establishments participate by offering specially curated prix-fixe menus at unbeatable prices. It’s a great way for visitors and locals alike to support our restaurant industry during a traditionally slower part of the year.
URL:https://www.opcdla.gov/event/coolinary-new-orleans/
END:VEVENT
END:VCALENDAR