BEGIN:VCALENDAR
VERSION:2.0
PRODID:-//Orleans Parish Communication District - ECPv6.6.4.2//NONSGML v1.0//EN
CALSCALE:GREGORIAN
METHOD:PUBLISH
X-WR-CALNAME:Orleans Parish Communication District
X-ORIGINAL-URL:https://www.opcdla.gov
X-WR-CALDESC:Events for Orleans Parish Communication District
REFRESH-INTERVAL;VALUE=DURATION:PT1H
X-Robots-Tag:noindex
X-PUBLISHED-TTL:PT1H
BEGIN:VTIMEZONE
TZID:UTC
BEGIN:STANDARD
TZOFFSETFROM:+0000
TZOFFSETTO:+0000
TZNAME:UTC
DTSTART:20230101T000000
END:STANDARD
END:VTIMEZONE
BEGIN:VEVENT
DTSTART;TZID=UTC:20230626T080000
DTEND;TZID=UTC:20230626T170000
DTSTAMP:20260422T091308
CREATED:20230626T234349Z
LAST-MODIFIED:20230626T234349Z
UID:4443-1687766400-1687798800@www.opcdla.gov
SUMMARY:Essence Festival 2023
DESCRIPTION:Thrown by Essence\, the long-standing Black-female-centered magazine\, the Essence Festival of Culture is considered the largest Black culture and music event in the United States. \nAround 500\,000 people journey to the Ernest N. Morial Convention Center in New Orleans every year for the highly anticipated occasion\, which this year will be held from June 29 to July 3. The three-day festival is an epic intersection of arts\, culture and concerts\, with Ms. Lauryn Hill\, Missy Elliott\, Megan Thee Stallion and more A-list stars set to perform.
URL:https://www.opcdla.gov/event/essence-festival-2023/
END:VEVENT
END:VCALENDAR